BEGIN:VCALENDAR
VERSION:2.0
PRODID:-//Events @ ARRAY - ECPv6.15.20//NONSGML v1.0//EN
CALSCALE:GREGORIAN
METHOD:PUBLISH
X-ORIGINAL-URL:https://events.arraynow.com
X-WR-CALDESC:Events for Events @ ARRAY
REFRESH-INTERVAL;VALUE=DURATION:PT1H
X-Robots-Tag:noindex
X-PUBLISHED-TTL:PT1H
BEGIN:VTIMEZONE
TZID:America/Los_Angeles
BEGIN:DAYLIGHT
TZOFFSETFROM:-0800
TZOFFSETTO:-0700
TZNAME:PDT
DTSTART:20250309T100000
END:DAYLIGHT
BEGIN:STANDARD
TZOFFSETFROM:-0700
TZOFFSETTO:-0800
TZNAME:PST
DTSTART:20251102T090000
END:STANDARD
BEGIN:DAYLIGHT
TZOFFSETFROM:-0800
TZOFFSETTO:-0700
TZNAME:PDT
DTSTART:20260308T100000
END:DAYLIGHT
BEGIN:STANDARD
TZOFFSETFROM:-0700
TZOFFSETTO:-0800
TZNAME:PST
DTSTART:20261101T090000
END:STANDARD
BEGIN:DAYLIGHT
TZOFFSETFROM:-0800
TZOFFSETTO:-0700
TZNAME:PDT
DTSTART:20270314T100000
END:DAYLIGHT
BEGIN:STANDARD
TZOFFSETFROM:-0700
TZOFFSETTO:-0800
TZNAME:PST
DTSTART:20271107T090000
END:STANDARD
END:VTIMEZONE
BEGIN:VEVENT
DTSTART;TZID=America/Los_Angeles:20260418T110000
DTEND;TZID=America/Los_Angeles:20260418T190000
DTSTAMP:20260421T080040
CREATED:20260415T072243Z
LAST-MODIFIED:20260415T073602Z
UID:10000095-1776510000-1776538800@events.arraynow.com
SUMMARY:PROSPERITY MARKET @ ARRAY
DESCRIPTION:Soak in the sun and good vibes when Prosperity Market pulls up to ARRAY on Saturday\, April 18! Enjoy shopping with purpose and directly support the values you believe in. \nProsperity Market is a mobile farmers market that features Black farmers\, food producers and chefs. Traveling throughout Los Angeles\, the trailer brings a curated farmers market experience directly to you\, making it easy to support local Black-owned businesses while expanding food access for everyone.
URL:https://events.arraynow.com/events/prosperity-market-array/
LOCATION:164 Glendale Blvd\, 164 Glendale Blvd\, Los Angeles\, CA\, 90026\, United States
CATEGORIES:Events @ ARRAY,In Person,Live to Public
ATTACH;FMTTYPE=image/jpeg:https://events.arraynow.com/files/2026/04/ARRAY_LFL_Event-List_hp.jpg
END:VEVENT
END:VCALENDAR